BEGIN:VCALENDAR
VERSION:2.0
PRODID:-//TANO - ECPv6.15.18//NONSGML v1.0//EN
CALSCALE:GREGORIAN
METHOD:PUBLISH
X-WR-CALNAME:TANO
X-ORIGINAL-URL:https://www.tano.de
X-WR-CALDESC:Veranstaltungen für TANO
REFRESH-INTERVAL;VALUE=DURATION:PT1H
X-Robots-Tag:noindex
X-PUBLISHED-TTL:PT1H
BEGIN:VTIMEZONE
TZID:Europe/Berlin
BEGIN:DAYLIGHT
TZOFFSETFROM:+0100
TZOFFSETTO:+0200
TZNAME:CEST
DTSTART:20240331T010000
END:DAYLIGHT
BEGIN:STANDARD
TZOFFSETFROM:+0200
TZOFFSETTO:+0100
TZNAME:CET
DTSTART:20241027T010000
END:STANDARD
BEGIN:DAYLIGHT
TZOFFSETFROM:+0100
TZOFFSETTO:+0200
TZNAME:CEST
DTSTART:20250330T010000
END:DAYLIGHT
BEGIN:STANDARD
TZOFFSETFROM:+0200
TZOFFSETTO:+0100
TZNAME:CET
DTSTART:20251026T010000
END:STANDARD
BEGIN:DAYLIGHT
TZOFFSETFROM:+0100
TZOFFSETTO:+0200
TZNAME:CEST
DTSTART:20260329T010000
END:DAYLIGHT
BEGIN:STANDARD
TZOFFSETFROM:+0200
TZOFFSETTO:+0100
TZNAME:CET
DTSTART:20261025T010000
END:STANDARD
END:VTIMEZONE
BEGIN:VEVENT
DTSTART;TZID=Europe/Berlin:20250320T170000
DTEND;TZID=Europe/Berlin:20250330T220000
DTSTAMP:20260421T172817
CREATED:20250303T150938Z
LAST-MODIFIED:20250402T152429Z
UID:3029-1742490000-1743372000@www.tano.de
SUMMARY:Kurzfilmwoche Regensburg
DESCRIPTION:Die Kurzfilmwoche Regensburg findet zwischen dem 20.  – 30. März 2025 statt. \n\n\n\n\n\n\n\nDie Regensburger Kurzfilmwoche wurde 1994 vom Arbeitskreis Film Regensburg e.V. gegründet und findet jährlich im März statt. Inzwischen werden zehn Preise in fünf Wettbewerben vergeben\, von international bis regional. Dabei stehen Fiktion\, Dokumentation\, Animation und Experimentalfilm gleichberechtigt nebeneinander. \n\n\n\nJenseits der Wettbewerbe befasst sich das breite Sonderprogramm mit einem thematischen Schwerpunkt und einem Länderfokus. Ergänzt werden diese durch Werkschauen\, Vorträge\, Ausstellungen und Workshops. \n\n\n\nFür die kleinsten Kurzfilmfans werden Kinder- und Jugendprogramme kuratiert und Workshops zum Selbermachen angeboten. Darüber hinaus gibt es fachbezogene Kurzfilmangebote für Schulen. Hier besteht die Möglichkeit einer medienpädagogischen Begleitung. \n\n\n\nNicht zuletzt mit den legendären Plattenfilmen – einer Live-Vertonung von Kurzfilmen mit Platten – sowie der Zündfunkparty im Leeren Beutel macht sich die Kurzfilmwoche seit dreißig Jahren einen Namen und lockt Filmschaffende und andere Kurzsüchtige in die charmanten Kinos der Domstadt! \n\n\n\nWettbewerbssektionen:Produktionen aus aller Welt sind im Internationalen Wettbewerb zu sehen\, während die hierzulande entstandenen Kurzfilme im Deutschen bzw. im Bayerischen Wettbewerb laufen. Im Regionalfenster lässt sich die lokale Kurzfilmlandschaft aus der Oberpfalz und Niederbayern entdecken. Im Architekturfenster – dem einzigen themenspezifischen Wettbewerb – konkurrieren internationale Filme mit architektonischem Bezug um den Architekturfilmpreis. Alle Wettbewerbe beinhalten ausschließlich Filme\, die nicht älter als zwei Jahre sind. \n\n\n\nNähere Informationen zum Programm erhalten Sie unter
URL:https://www.tano.de/event/kurzfilmwoche-regensburg/
CATEGORIES:allgemein
ATTACH;FMTTYPE=image/jpeg:https://www.tano.de/wp-content/uploads/2024/12/Logo.jpg
ORGANIZER;CN="Arbeitskreis Film Regensburg e.V. / Internationale Kurzfilmwoche Regensburg":MAILTO:info@kurzfilmwoche.de
END:VEVENT
BEGIN:VEVENT
DTSTART;TZID=Europe/Berlin:20250325T190000
DTEND;TZID=Europe/Berlin:20250325T210000
DTSTAMP:20260421T172817
CREATED:20250303T160420Z
LAST-MODIFIED:20250402T152357Z
UID:3072-1742929200-1742936400@www.tano.de
SUMMARY:Luftmuseum Architekturvorträge
DESCRIPTION:Die Lust und der Entwurf – Würd man gern bauen \n\n\n\n\n\n\n\nLukas Mahlknecht\, Mahlknecht Herrle Architekten BDA \n\n\n\n \n\n\n\nWeitere Vorträge dieser Reihe finden Sie hier:
URL:https://www.tano.de/event/luftmuseum-architekturvortraege-2/
LOCATION:Luftmuseum e.V.\, Eichenforstgäßchen 12\, Amberg\, 92224\, Germany
CATEGORIES:Vortrag
END:VEVENT
BEGIN:VEVENT
DTSTART;TZID=Europe/Berlin:20250325T190000
DTEND;TZID=Europe/Berlin:20250325T220000
DTSTAMP:20260421T172817
CREATED:20250313T153019Z
LAST-MODIFIED:20250402T152337Z
UID:3083-1742929200-1742940000@www.tano.de
SUMMARY:Architekturfenster - Kurzfilmwoche in Regensburg
DESCRIPTION:Im Rahmen der 31. Internationalen Kurzfilmwoche Regensburg findet das Architekturfenster statt:ARCHITEKTURFENSTERSONNTAG 23.03.2025: 19:00 im Kino AndreasstadelDIENSTAG 25.03.2025: 19:00 im W1 – TheatersaalDas Architekturfenster ist eines der schillernden Alleinstellungsmerkmale der Kurzfilmwoche Regensburg. In diesem Wettbewerb kann man sich davon überzeugen\, dass Film und Architektur eng miteinander verwoben sind. Dieses Jahr sind sieben internationale Produktionen zu sehen\, die uns in den Iran\, nach Portugal\, Österreich\, Frankreich\, Italien und nach Estland führen.Wir steigen ein mit der Frage\, wie Architektur und Erinnerungskultur Hand in Hand gehen können und wie fragil diese Verbindung meist ist (City of God). Es werden Bäume versetzt (The Flying Plane)\, und die Leistungsgesellschaft wird anhand eines Kreuzfahrtterminals hinterfragt (Yes!). Ein Haus offenbart uns sein geheimnisvolles Innerstes (A Homeward Bound)\, und Wien wird zu einem Ort der Heimsuchung (Concrete Whisper).Gleich zwei Filme setzen sich auf formal unterschiedliche\, aber nicht minder kritische Weise mit der Gentrifizierung und Wohnungsnot in zwei portugiesischen Metropolen auseinander (Bad for a Moment\, T-Zero).Auch dieses Jahr stiften der Architekturkreis Regensburg e.V.\, der TANO – Treffpunkt Architektur Niederbayern-Oberpfalz der Bayerischen Architektenkammer (TANO) sowie Schnitzer& GmbH gemeinsam den Architekturpreis in Höhe von 1.500 Euro. Vergeben wird der Preis von einer Fachjury.Eintritt 9 Euro\, ermäßigt 8 EuroInfos zu allen Filmen unter: https://www.kurzfilmwoche.de/programm/architekturfensterOnline-Vorverkauf unter https://www.filmgalerie.de/detail/104042/Architekturfenster
URL:https://www.tano.de/event/architekturfenster-kurzfilmwoche-in-regensburg-2/
LOCATION:W1 – Zentrum für junge Kultur Theatersaal\, Deutschland
CATEGORIES:allgemein
ORGANIZER;CN="Arbeitskreis Film Regensburg e.V. / Internationale Kurzfilmwoche Regensburg":MAILTO:info@kurzfilmwoche.de
END:VEVENT
END:VCALENDAR